BEGIN:VCALENDAR
VERSION:2.0
PRODID:-//AllRace//AllRace//RU
CALSCALE:GREGORIAN
METHOD:PUBLISH
BEGIN:VEVENT
UID:smp-f4-2026-05@allrace.ru
DTSTAMP:20260420T144856Z
DTSTART:20260912T000000Z
DTEND:20260913T000000Z
SUMMARY:Крепость Грозная — SMP F4
DESCRIPTION:СМП Формула 4\nhttps://allrace.ru/events/smp-f4-2026-05
LOCATION:Крепость Грозная, Грозный
END:VEVENT
END:VCALENDAR