BEGIN:VCALENDAR
VERSION:2.0
PRODID:-//AllRace//AllRace//RU
CALSCALE:GREGORIAN
METHOD:PUBLISH
BEGIN:VEVENT
UID:smp-f4-2026-04@allrace.ru
DTSTAMP:20260420T144815Z
DTSTART:20260829T000000Z
DTEND:20260830T000000Z
SUMMARY:Нижегородское кольцо — SMP F4
DESCRIPTION:СМП Формула 4\nhttps://allrace.ru/events/smp-f4-2026-04
LOCATION:Нижегородское кольцо, Нижний Новгород
END:VEVENT
END:VCALENDAR