BEGIN:VCALENDAR
VERSION:2.0
PRODID:-//AllRace//AllRace//RU
CALSCALE:GREGORIAN
METHOD:PUBLISH
BEGIN:VEVENT
UID:smp-f4-2026-02@allrace.ru
DTSTAMP:20260420T144815Z
DTSTART:20260613T000000Z
DTEND:20260614T000000Z
SUMMARY:Kazanring — SMP F4
DESCRIPTION:СМП Формула 4\nhttps://allrace.ru/events/smp-f4-2026-02
LOCATION:Kazanring Canyon, Казань
END:VEVENT
END:VCALENDAR