BEGIN:VCALENDAR
VERSION:2.0
PRODID:-//AllRace//AllRace//RU
CALSCALE:GREGORIAN
METHOD:PUBLISH
BEGIN:VEVENT
UID:smp-f4-2026-01@allrace.ru
DTSTAMP:20260420T144841Z
DTSTART:20260516T000000Z
DTEND:20260517T000000Z
SUMMARY:Moscow Raceway — SMP F4
DESCRIPTION:СМП Формула 4\nБилеты: https://smpkarting.ru/competitions/formula-4\nhttps://allrace.ru/events/smp-f4-2026-01
LOCATION:Moscow Raceway, Москва
END:VEVENT
END:VCALENDAR