BEGIN:VCALENDAR
VERSION:2.0
PRODID:-//AllRace//AllRace//RU
CALSCALE:GREGORIAN
METHOD:PUBLISH
BEGIN:VEVENT
UID:rds-fest-moscow-raceway@allrace.ru
DTSTAMP:20260420T144544Z
DTSTART:20260621T000000Z
DTEND:20260621T000000Z
SUMMARY:RDS FEST Moscow Raceway — RDS
DESCRIPTION:Российская Дрифт Серия\nhttps://allrace.ru/events/rds-fest-moscow-raceway
LOCATION:Moscow Raceway, Москва
END:VEVENT
END:VCALENDAR