BEGIN:VCALENDAR
VERSION:2.0
PRODID:-//AllRace//AllRace//RU
CALSCALE:GREGORIAN
METHOD:PUBLISH
BEGIN:VEVENT
UID:rds-fest-igora-drajv@allrace.ru
DTSTAMP:20260420T144717Z
DTSTART:20260822T000000Z
DTEND:20260823T000000Z
SUMMARY:RDS FEST Игора Драйв — RDS
DESCRIPTION:Российская Дрифт Серия\nhttps://allrace.ru/events/rds-fest-igora-drajv
LOCATION:Игора Драйв, Санкт-Петербург
END:VEVENT
END:VCALENDAR