BEGIN:VCALENDAR
VERSION:2.0
PRODID:-//AllRace//AllRace//RU
CALSCALE:GREGORIAN
METHOD:PUBLISH
BEGIN:VEVENT
UID:nizhegorodskoe-koltso-rcrs-7@allrace.ru
DTSTAMP:20260420T145132Z
DTSTART:20260828T000000Z
DTEND:20260830T000000Z
SUMMARY:Нижегородское кольцо — SMP RCRS
DESCRIPTION:Российская Серия Кольцевых Гонок\nhttps://allrace.ru/events/nizhegorodskoe-koltso-rcrs-7
LOCATION:Нижегородское кольцо, Нижний Новгород
END:VEVENT
END:VCALENDAR