BEGIN:VCALENDAR
VERSION:2.0
PRODID:-//AllRace//AllRace//RU
CALSCALE:GREGORIAN
METHOD:PUBLISH
BEGIN:VEVENT
UID:motoring-2026-05@allrace.ru
DTSTAMP:20260420T144435Z
DTSTART:20260807T000000Z
DTEND:20260809T000000Z
SUMMARY:Moscow Raceway — Motoring
DESCRIPTION:Чемпионат России по шоссейно-кольцевым мотогонкам\nhttps://allrace.ru/events/motoring-2026-05
LOCATION:Moscow Raceway, Москва
END:VEVENT
END:VCALENDAR