BEGIN:VCALENDAR
VERSION:2.0
PRODID:-//AllRace//AllRace//RU
CALSCALE:GREGORIAN
METHOD:PUBLISH
BEGIN:VEVENT
UID:motoring-2026-04@allrace.ru
DTSTAMP:20260420T144355Z
DTSTART:20260723T000000Z
DTEND:20260726T000000Z
SUMMARY:Игора Драйв — Motoring
DESCRIPTION:Чемпионат России по шоссейно-кольцевым мотогонкам\nhttps://allrace.ru/events/motoring-2026-04
LOCATION:Игора Драйв, Санкт-Петербург
END:VEVENT
END:VCALENDAR