BEGIN:VCALENDAR
VERSION:2.0
PRODID:-//AllRace//AllRace//RU
CALSCALE:GREGORIAN
METHOD:PUBLISH
BEGIN:VEVENT
UID:gran-pri-avto-mail@allrace.ru
DTSTAMP:20260420T144355Z
DTSTART:20260530T000000Z
DTEND:20260530T000000Z
SUMMARY:Гран при Авто Mail — REC
DESCRIPTION:Российская серия гонок на выносливость\nБилеты: https://superrace.ru/\nhttps://allrace.ru/events/gran-pri-avto-mail
LOCATION:Moscow Raceway, Москва
END:VEVENT
END:VCALENDAR