BEGIN:VCALENDAR
VERSION:2.0
PRODID:-//AllRace//AllRace//RU
CALSCALE:GREGORIAN
METHOD:PUBLISH
BEGIN:VEVENT
UID:etap-8-krepost-groznaya@allrace.ru
DTSTAMP:20260420T145019Z
DTSTART:20260910T000000Z
DTEND:20260913T000000Z
SUMMARY:Крепость Грозная — SMP RCRS
DESCRIPTION:Российская Серия Кольцевых Гонок\nhttps://allrace.ru/events/etap-8-krepost-groznaya
LOCATION:Крепость Грозная, Грозный
END:VEVENT
END:VCALENDAR