BEGIN:VCALENDAR
VERSION:2.0
PRODID:-//AllRace//AllRace//RU
CALSCALE:GREGORIAN
METHOD:PUBLISH
BEGIN:VEVENT
UID:etap-6-moscow-raceway@allrace.ru
DTSTAMP:20260420T144625Z
DTSTART:20260829T000000Z
DTEND:20260830T000000Z
SUMMARY:Moscow Raceway — RDS
DESCRIPTION:Российская Дрифт Серия\nБилеты: https://tickets.vdrifte.ru/gp/stage6-mrw?utm_source=rdsgp.com&utm_medium=right-side-stage6-mrw\nhttps://allrace.ru/events/etap-6-moscow-raceway
LOCATION:Moscow Raceway, Москва
END:VEVENT
END:VCALENDAR