BEGIN:VCALENDAR
VERSION:2.0
PRODID:-//AllRace//AllRace//RU
CALSCALE:GREGORIAN
METHOD:PUBLISH
BEGIN:VEVENT
UID:etap-6-igora-drajv@allrace.ru
DTSTAMP:20260420T144722Z
DTSTART:20260814T000000Z
DTEND:20260816T000000Z
SUMMARY:Игора Драйв — SMP RCRS
DESCRIPTION:Российская Серия Кольцевых Гонок\nШестой этап чемпионата снова проходит на автодроме Игора Драйв, но на этот раз акцент сделан на прототипах и гонках на выносливость.

В программе уикенда: Кубок BR03 (I этап) — новая моносерия на отечественных спортпрототипах, а также спортпрототипы CN (III этап). Эти машины сопоставимы по скорости с суперкарами и делают гонки особенно динамичными.

Главное событие этапа — 6-часовая гонка Эндуранс (II этап, 15 августа), где ключевую роль играют стратегия, смены пилотов и надёжность техники.

Этап сочетает короткие заезды прототипов и длинную марафонскую гонку, предлагая зрителям разные форматы автоспорта в один уикенд.\nБилеты: https://radario.ru/customer/event/2616391/info/?openAsLinkKey=owpzde6u6i&clckid=a1d3e690\nhttps://allrace.ru/events/etap-6-igora-drajv
LOCATION:Игора Драйв, Санкт-Петербург
END:VEVENT
END:VCALENDAR