BEGIN:VCALENDAR
VERSION:2.0
PRODID:-//AllRace//AllRace//RU
CALSCALE:GREGORIAN
METHOD:PUBLISH
BEGIN:VEVENT
UID:etap-6-adm-raceway@allrace.ru
DTSTAMP:20260420T144522Z
DTSTART:20260912T000000Z
DTEND:20260913T000000Z
SUMMARY:ADM Raceway — RDS
DESCRIPTION:Российская Дрифт Серия\nБилеты: https://tickets.vdrifte.ru/open/stage6-adm?utm_source=rdseopen.ru&utm_medium=right-side-stage6-adm\nhttps://allrace.ru/events/etap-6-adm-raceway
LOCATION:ADM Raceway, Москва
END:VEVENT
END:VCALENDAR