BEGIN:VCALENDAR
VERSION:2.0
PRODID:-//AllRace//AllRace//RU
CALSCALE:GREGORIAN
METHOD:PUBLISH
BEGIN:VEVENT
UID:etap-5@allrace.ru
DTSTAMP:20260420T144242Z
DTSTART:20260815T000000Z
DTEND:20260816T000000Z
SUMMARY:Этап 5 — RDS
DESCRIPTION:Российская Дрифт Серия\nhttps://allrace.ru/events/etap-5
END:VEVENT
END:VCALENDAR