BEGIN:VCALENDAR
VERSION:2.0
PRODID:-//AllRace//AllRace//RU
CALSCALE:GREGORIAN
METHOD:PUBLISH
BEGIN:VEVENT
UID:etap-5-moscow-raceway@allrace.ru
DTSTAMP:20260420T144619Z
DTSTART:20260801T000000Z
DTEND:20260802T000000Z
SUMMARY:RED RING — RDS
DESCRIPTION:Российская Дрифт Серия\nБилеты: https://tickets.vdrifte.ru/gp/stage5-redring?utm_source=rdsgp.com&utm_medium=right-side-stage5-redring\nhttps://allrace.ru/events/etap-5-moscow-raceway
LOCATION:Красное Кольцо, Красноярск
END:VEVENT
END:VCALENDAR