BEGIN:VCALENDAR
VERSION:2.0
PRODID:-//AllRace//AllRace//RU
CALSCALE:GREGORIAN
METHOD:PUBLISH
BEGIN:VEVENT
UID:etap-5-igora-drajv@allrace.ru
DTSTAMP:20260420T144722Z
DTSTART:20260807T000000Z
DTEND:20260809T000000Z
SUMMARY:Игора Драйв — SMP RCRS
DESCRIPTION:Российская Серия Кольцевых Гонок\nПятый этап чемпионата проходит на современном автодроме Игора Драйв в Ленинградской области — одной из самых технологичных трасс России.

В программе уикенда: кузовные классы РСКГ (IV этап), а также SMP GT4 Russia (III этап) и гонки SMP Формулы-4, которые проходят совместно и дополняют гоночную программу.

Зрителей ждут квалификации и несколько заездов в разных классах — от серийных автомобилей до более мощных машин. К середине сезона борьба за очки выходит на новый уровень, и каждое выступление начинает играть важную роль в чемпионате.

Быстрая и техничная трасса делает этап зрелищным: здесь важны как скорость, так и точность пилотирования.\nБилеты: https://radario.ru/customer/event/2616374/info/?openAsLinkKey=44fcreibg3&clckid=3c047be2\nhttps://allrace.ru/events/etap-5-igora-drajv
LOCATION:Игора Драйв, Санкт-Петербург
END:VEVENT
END:VCALENDAR