BEGIN:VCALENDAR
VERSION:2.0
PRODID:-//AllRace//AllRace//RU
CALSCALE:GREGORIAN
METHOD:PUBLISH
BEGIN:VEVENT
UID:etap-5-500-verst-moscow-raceway@allrace.ru
DTSTAMP:20260420T145132Z
DTSTART:20261003T000000Z
DTEND:20261003T000000Z
SUMMARY:500 верст Moscow Raceway — REC
DESCRIPTION:Российская серия гонок на выносливость\nhttps://allrace.ru/events/etap-5-500-verst-moscow-raceway
LOCATION:Moscow Raceway, Москва
END:VEVENT
END:VCALENDAR