BEGIN:VCALENDAR
VERSION:2.0
PRODID:-//AllRace//AllRace//RU
CALSCALE:GREGORIAN
METHOD:PUBLISH
BEGIN:VEVENT
UID:etap-4-smolenskoe-koltso@allrace.ru
DTSTAMP:20260420T144942Z
DTSTART:20260703T000000Z
DTEND:20260705T000000Z
SUMMARY:Смоленское кольцо — SMP RCRS
DESCRIPTION:Российская Серия Кольцевых Гонок\nЧетвёртый этап чемпионата запланирован на трассе Смоленское кольцо (г. Дорогобуж) — одном из первых современных автодромов России, который недавно отметил 15-летие и возвращается в календарь после паузы.

В программе уикенда: кузовные классы РСКГ (III этап) и спортпрототипы CN (II этап). Зрителей ждут квалификации и несколько гонок в разных категориях, где участники продолжают борьбу за очки сезона.

Этап сочетает спринтерские заезды кузовных автомобилей и более быстрые прототипы, что делает гоночный уикенд разнообразным и динамичным.

⚠️ Место проведения будет окончательно подтверждено после инспекции трассы.\nhttps://allrace.ru/events/etap-4-smolenskoe-koltso
LOCATION:Смоленское кольцо, Дорогобуж
END:VEVENT
END:VCALENDAR