BEGIN:VCALENDAR
VERSION:2.0
PRODID:-//AllRace//AllRace//RU
CALSCALE:GREGORIAN
METHOD:PUBLISH
BEGIN:VEVENT
UID:etap-4-igora-drajv@allrace.ru
DTSTAMP:20260420T144758Z
DTSTART:20260718T000000Z
DTEND:20260719T000000Z
SUMMARY:Игора Драйв — RDS
DESCRIPTION:Российская Дрифт Серия\nhttps://allrace.ru/events/etap-4-igora-drajv
LOCATION:Игора Драйв, Санкт-Петербург
END:VEVENT
END:VCALENDAR