BEGIN:VCALENDAR
VERSION:2.0
PRODID:-//AllRace//AllRace//RU
CALSCALE:GREGORIAN
METHOD:PUBLISH
BEGIN:VEVENT
UID:etap-4-adm-raceway@allrace.ru
DTSTAMP:20260420T144442Z
DTSTART:20260711T000000Z
DTEND:20260612T000000Z
SUMMARY:ADM Raceway — RDS
DESCRIPTION:Российская Дрифт Серия\nБилеты: https://tickets.vdrifte.ru/gp/stage4-adm?utm_source=rdsgp.com&utm_medium=right-side-stage4-adm\nhttps://allrace.ru/events/etap-4-adm-raceway
LOCATION:ADM Raceway, Москва
END:VEVENT
END:VCALENDAR