BEGIN:VCALENDAR
VERSION:2.0
PRODID:-//AllRace//AllRace//RU
CALSCALE:GREGORIAN
METHOD:PUBLISH
BEGIN:VEVENT
UID:etap-3-nring@allrace.ru
DTSTAMP:20260420T144314Z
DTSTART:20260613T000000Z
DTEND:20260614T000000Z
SUMMARY:NRING — RDS
DESCRIPTION:Российская Дрифт Серия\nБилеты: https://tickets.vdrifte.ru/gp/stage3-nring?utm_source=rdsgp.com&utm_medium=right-side-stage3-nring\nhttps://allrace.ru/events/etap-3-nring
LOCATION:Нижегородское кольцо, Нижний Новгород
END:VEVENT
END:VCALENDAR