BEGIN:VCALENDAR
VERSION:2.0
PRODID:-//AllRace//AllRace//RU
CALSCALE:GREGORIAN
METHOD:PUBLISH
BEGIN:VEVENT
UID:etap-3-kazanring-canyon@allrace.ru
DTSTAMP:20260420T144949Z
DTSTART:20260606T000000Z
DTEND:20260607T000000Z
SUMMARY:Kazanring Canyon — RDS
DESCRIPTION:Российская Дрифт Серия\nБилеты: https://tickets.vdrifte.ru/open/stage3-kazanring?utm_source=rdseopen.ru&utm_medium=right-side-stage3-kazanring\nhttps://allrace.ru/events/etap-3-kazanring-canyon
LOCATION:Kazanring Canyon, Казань
END:VEVENT
END:VCALENDAR