BEGIN:VCALENDAR
VERSION:2.0
PRODID:-//AllRace//AllRace//RU
CALSCALE:GREGORIAN
METHOD:PUBLISH
BEGIN:VEVENT
UID:etap-3-4-chasa-igory-drajv@allrace.ru
DTSTAMP:20260420T145046Z
DTSTART:20260710T000000Z
DTEND:20260711T000000Z
SUMMARY:4 часа Игоры Драйв — REC
DESCRIPTION:Российская серия гонок на выносливость\nhttps://allrace.ru/events/etap-3-4-chasa-igory-drajv
LOCATION:Игора Драйв, Санкт-Петербург
END:VEVENT
END:VCALENDAR