BEGIN:VCALENDAR
VERSION:2.0
PRODID:-//AllRace//AllRace//RU
CALSCALE:GREGORIAN
METHOD:PUBLISH
BEGIN:VEVENT
UID:etap-2-tstvs-moskva@allrace.ru
DTSTAMP:20260420T144758Z
DTSTART:20260516T000000Z
DTEND:20260517T000000Z
SUMMARY:ЦТВС «Москва» — RDS
DESCRIPTION:Российская Дрифт Серия\nБилеты: https://tickets.vdrifte.ru/open/stage2-ctvs?utm_source=rdseopen.ru&utm_medium=right-side-stage2-ctvs\nhttps://allrace.ru/events/etap-2-tstvs-moskva
LOCATION:ЦТВС «Москва», Москва
END:VEVENT
END:VCALENDAR