BEGIN:VCALENDAR
VERSION:2.0
PRODID:-//AllRace//AllRace//RU
CALSCALE:GREGORIAN
METHOD:PUBLISH
BEGIN:VEVENT
UID:etap-2-moscow-raceway@allrace.ru
DTSTAMP:20260420T144522Z
DTSTART:20260522T000000Z
DTEND:20260524T000000Z
SUMMARY:Moscow Raceway — SMP RCRS
DESCRIPTION:Российская Серия Кольцевых Гонок\nВторой этап чемпионата проходит на трассе Moscow Raceway и включает в себя не только гонки формата "Спринт", но и настоящее испытание на выносливость в рамках "СМП РСКГ Эндуранс".

В программе этапа: спортпрототипы CN (I этап) и серия СМП РСКГ Эндуранс, где команды соревнуются не только в скорости, но и в стратегии, надёжности техники и слаженной работе пилотов.

Ключевое событие — 12-часовой марафон (23 мая), который открывает сезон эндуранс-гонок. Это самый длинный заезд в истории отечественного кольцевого автоспорта: ранее максимальная дистанция ограничивалась 6 часами.

Дополнительную интригу добавляет новый статус: теперь в абсолютном зачёте разыгрывается титул чемпионов России, а не Кубок, что делает борьбу ещё более напряжённой.\nБилеты: https://radario.ru/customer/event/2614838/info/?openAsLinkKey=bfa5usinzm&clckid=fe8d5447\nhttps://allrace.ru/events/etap-2-moscow-raceway
LOCATION:Moscow Raceway, Москва
END:VEVENT
END:VCALENDAR