BEGIN:VCALENDAR
VERSION:2.0
PRODID:-//AllRace//AllRace//RU
CALSCALE:GREGORIAN
METHOD:PUBLISH
BEGIN:VEVENT
UID:etap-2-igora-drajv@allrace.ru
DTSTAMP:20260420T144717Z
DTSTART:20260523T000000Z
DTEND:20260524T000000Z
SUMMARY:Игора Драйв — RDS
DESCRIPTION:Российская Дрифт Серия\nБилеты: https://tickets.vdrifte.ru/gp/stage2-igora?utm_source=rdsgp.com&utm_medium=right-side-stage2-igora\nhttps://allrace.ru/events/etap-2-igora-drajv
LOCATION:Игора Драйв, Санкт-Петербург
END:VEVENT
END:VCALENDAR