BEGIN:VCALENDAR
VERSION:2.0
PRODID:-//AllRace//AllRace//RU
CALSCALE:GREGORIAN
METHOD:PUBLISH
BEGIN:VEVENT
UID:etap-2-4-chasa-moscow-raceway@allrace.ru
DTSTAMP:20260420T145046Z
DTSTART:20260627T000000Z
DTEND:20260627T000000Z
SUMMARY:4 часа Moscow Raceway — REC
DESCRIPTION:Российская серия гонок на выносливость\nhttps://allrace.ru/events/etap-2-4-chasa-moscow-raceway
LOCATION:Moscow Raceway, Москва
END:VEVENT
END:VCALENDAR