BEGIN:VCALENDAR
VERSION:2.0
PRODID:-//AllRace//AllRace//RU
CALSCALE:GREGORIAN
METHOD:PUBLISH
BEGIN:VEVENT
UID:etap-10-moscow-raceway@allrace.ru
DTSTAMP:20260420T145342Z
DTSTART:20261008T000000Z
DTEND:20261011T000000Z
SUMMARY:Moscow Raceway — SMP RCRS
DESCRIPTION:Российская Серия Кольцевых Гонок\nhttps://allrace.ru/events/etap-10-moscow-raceway
LOCATION:Moscow Raceway, Москва
END:VEVENT
END:VCALENDAR