BEGIN:VCALENDAR
VERSION:2.0
PRODID:-//AllRace//AllRace//RU
CALSCALE:GREGORIAN
METHOD:PUBLISH
BEGIN:VEVENT
UID:etap-1-moscow-raceway@allrace.ru
DTSTAMP:20260420T144625Z
DTSTART:20260515T000000Z
DTEND:20260517T000000Z
SUMMARY:Moscow Raceway — SMP RCRS
DESCRIPTION:Российская Серия Кольцевых Гонок\nПервый этап Российской серии кольцевых гонок открывает сезон и проходит на трассе Moscow Raceway. В течение трёх дней зрителей ждёт насыщенная программа: тренировки и квалификации, а затем несколько гонок в разных классах автомобилей.

На этапе выступают кузовные классы РСКГ (I этап), а также проходят гонки серий SMP GT4 Russia (I этап) и SMP Формула-4, которые проходят совместно и дополняют программу уикенда.

Это возможность за один уикенд увидеть сразу несколько форматов гонок — от серийных автомобилей до более быстрых и профессиональных классов, где участники начинают борьбу за первые очки сезона.\nБилеты: https://radario.ru/customer/event/2614338/info/?openAsLinkKey=2k68emelb5&clckid=a7fcb279\nhttps://allrace.ru/events/etap-1-moscow-raceway
LOCATION:Moscow Raceway, Москва
END:VEVENT
END:VCALENDAR