BEGIN:VCALENDAR
VERSION:2.0
PRODID:-//AllRace//AllRace//RU
CALSCALE:GREGORIAN
METHOD:PUBLISH
BEGIN:VEVENT
UID:etap-1-moscow-raceway-rdsgp@allrace.ru
DTSTAMP:20260420T144942Z
DTSTART:20260502T000000Z
DTEND:20260503T000000Z
SUMMARY:Moscow Raceway — RDS
DESCRIPTION:Российская Дрифт Серия\nБилеты: https://tickets.vdrifte.ru/gp/stage1-mrw?utm_source=rdsgp.com&utm_medium=right-side-stage1-mrw\nhttps://allrace.ru/events/etap-1-moscow-raceway-rdsgp
LOCATION:Moscow Raceway, Москва
END:VEVENT
END:VCALENDAR