BEGIN:VCALENDAR
VERSION:2.0
PRODID:-//AllRace//AllRace//RU
CALSCALE:GREGORIAN
METHOD:PUBLISH
BEGIN:VEVENT
UID:etap-1-kazan-ring-kanon@allrace.ru
DTSTAMP:20260420T145019Z
DTSTART:20260612T000000Z
DTEND:20260614T000000Z
SUMMARY:Kazanring Canyon — SMP RCRS
DESCRIPTION:Российская Серия Кольцевых Гонок\nТретий этап чемпионата проходит на трассе Казань Ринг Каньон и возвращает привычный формат спринтерских гонок с плотной борьбой на коротких дистанциях.

В программе уикенда: кузовные классы РСКГ (II этап), а также серия SMP GT4 Russia (II этап) и гонки SMP Формулы-4, которые проходят совместно и дополняют заезды.

Зрителей ждут квалификации и несколько гонок в разных классах — от серийных автомобилей до более мощных машин. Участники продолжают набирать очки в чемпионате, а борьба становится плотнее после стартовых этапов сезона.

Особенность этапа — динамичный формат: короткие гонки, частые обгоны и минимальные отрывы, что делает уикенд особенно зрелищным.\nБилеты: https://radario.ru/customer/event/2636503/info/?openAsLinkKey=2bs3rv77of&clckid=f4dcd661\nhttps://allrace.ru/events/etap-1-kazan-ring-kanon
LOCATION:Kazanring Canyon, Казань
END:VEVENT
END:VCALENDAR