BEGIN:VCALENDAR
VERSION:2.0
PRODID:-//AllRace//AllRace//RU
CALSCALE:GREGORIAN
METHOD:PUBLISH
BEGIN:VEVENT
UID:etap-1-atron-international-curcuit@allrace.ru
DTSTAMP:20260420T144949Z
DTSTART:20260425T000000Z
DTEND:20260426T000000Z
SUMMARY:ATRON International Curcuit — RDS
DESCRIPTION:Российская Дрифт Серия\nБилеты: https://tickets.vdrifte.ru/open/stage1-atron?utm_source=rdseopen.ru&utm_medium=right-side-stage1-atron\nhttps://allrace.ru/events/etap-1-atron-international-curcuit
LOCATION:ATRON International Circuit, Рязань
END:VEVENT
END:VCALENDAR